BEGIN:VCALENDAR
VERSION:2.0
PRODID:-//öh mci - ECPv6.2.8.2//NONSGML v1.0//EN
CALSCALE:GREGORIAN
METHOD:PUBLISH
X-WR-CALNAME:öh mci
X-ORIGINAL-URL:https://oeh-mci.at/en/
X-WR-CALDESC:Events for öh mci
REFRESH-INTERVAL;VALUE=DURATION:PT1H
X-Robots-Tag:noindex
X-PUBLISHED-TTL:PT1H
BEGIN:VTIMEZONE
TZID:Europe/Berlin
BEGIN:DAYLIGHT
TZOFFSETFROM:+0100
TZOFFSETTO:+0200
TZNAME:CEST
DTSTART:20220327T010000
END:DAYLIGHT
BEGIN:STANDARD
TZOFFSETFROM:+0200
TZOFFSETTO:+0100
TZNAME:CET
DTSTART:20221030T010000
END:STANDARD
END:VTIMEZONE
BEGIN:VEVENT
DTSTART;TZID=Europe/Berlin:20220131T190000
DTEND;TZID=Europe/Berlin:20220131T201500
DTSTAMP:20260426T052253
CREATED:20240830T073348Z
LAST-MODIFIED:20240830T073352Z
UID:1320437-1643655600-1643660100@oeh-mci.at
SUMMARY:Yoga with Vera
DESCRIPTION:3G – Proof required.
URL:https://oeh-mci.at/en/event/yoga-with-vera/
LOCATION:St. Nikolaus elementary school\, Innhalle 3
END:VEVENT
END:VCALENDAR