BEGIN:VCALENDAR
VERSION:2.0
PRODID:-//öh mci - ECPv6.2.8.2//NONSGML v1.0//EN
CALSCALE:GREGORIAN
METHOD:PUBLISH
X-WR-CALNAME:öh mci
X-ORIGINAL-URL:https://oeh-mci.at
X-WR-CALDESC:Events for öh mci
REFRESH-INTERVAL;VALUE=DURATION:PT1H
X-Robots-Tag:noindex
X-PUBLISHED-TTL:PT1H
BEGIN:VTIMEZONE
TZID:Europe/Berlin
BEGIN:DAYLIGHT
TZOFFSETFROM:+0100
TZOFFSETTO:+0200
TZNAME:CEST
DTSTART:20210328T010000
END:DAYLIGHT
BEGIN:STANDARD
TZOFFSETFROM:+0200
TZOFFSETTO:+0100
TZNAME:CET
DTSTART:20211031T010000
END:STANDARD
END:VTIMEZONE
BEGIN:VEVENT
DTSTART;VALUE=DATE:20210701
DTEND;VALUE=DATE:20210906
DTSTAMP:20260425T050330
CREATED:20210620T204841Z
LAST-MODIFIED:20210712T135655Z
UID:1995-1625097600-1630886399@oeh-mci.at
SUMMARY:Sommer Pause - Genieße
DESCRIPTION:
URL:https://oeh-mci.at/event/sommer-pause-sommer/
LOCATION:ÖH MCI Management Center Innsbruck\, Kaiserjägerstraße 1 / 2. Stock/ Top 23\, Innsbruck\, Tirol\, 6020\, Österreich
ATTACH;FMTTYPE=image/svg+xml:https://oeh-mci.at/wp-content/uploads/2021/04/Geniesse-4.svg
END:VEVENT
BEGIN:VEVENT
DTSTART;VALUE=DATE:20210701
DTEND;VALUE=DATE:20210906
DTSTAMP:20260425T050330
CREATED:20210620T204932Z
LAST-MODIFIED:20210712T135644Z
UID:1997-1625097600-1630886399@oeh-mci.at
SUMMARY:Sommer Pause - deinen
DESCRIPTION:
URL:https://oeh-mci.at/event/sommer-pause-deinen/
LOCATION:ÖH MCI Management Center Innsbruck\, Kaiserjägerstraße 1 / 2. Stock/ Top 23\, Innsbruck\, Tirol\, 6020\, Österreich
ATTACH;FMTTYPE=image/svg+xml:https://oeh-mci.at/wp-content/uploads/2021/04/deinen-1.svg
END:VEVENT
BEGIN:VEVENT
DTSTART;VALUE=DATE:20210701
DTEND;VALUE=DATE:20210906
DTSTAMP:20260425T050330
CREATED:20210620T205003Z
LAST-MODIFIED:20210712T135635Z
UID:1999-1625097600-1630886399@oeh-mci.at
SUMMARY:Summer break - Summer
DESCRIPTION:
URL:https://oeh-mci.at/event/sommer-pause-geniesse/
LOCATION:ÖH MCI Management Center Innsbruck\, Kaiserjägerstraße 1 / 2. Stock/ Top 23\, Innsbruck\, Tirol\, 6020\, Österreich
ATTACH;FMTTYPE=image/svg+xml:https://oeh-mci.at/wp-content/uploads/2021/04/summer-1.svg
END:VEVENT
END:VCALENDAR