BEGIN:VCALENDAR
VERSION:2.0
PRODID:-//öh mci - ECPv6.2.8.2//NONSGML v1.0//EN
CALSCALE:GREGORIAN
METHOD:PUBLISH
X-WR-CALNAME:öh mci
X-ORIGINAL-URL:https://oeh-mci.at
X-WR-CALDESC:Events for öh mci
REFRESH-INTERVAL;VALUE=DURATION:PT1H
X-Robots-Tag:noindex
X-PUBLISHED-TTL:PT1H
BEGIN:VTIMEZONE
TZID:Europe/Berlin
BEGIN:DAYLIGHT
TZOFFSETFROM:+0100
TZOFFSETTO:+0200
TZNAME:CEST
DTSTART:20210328T010000
END:DAYLIGHT
BEGIN:STANDARD
TZOFFSETFROM:+0200
TZOFFSETTO:+0100
TZNAME:CET
DTSTART:20211031T010000
END:STANDARD
END:VTIMEZONE
BEGIN:VEVENT
DTSTART;TZID=Europe/Berlin:20211206T190000
DTEND;TZID=Europe/Berlin:20211206T201500
DTSTAMP:20260424T230938
CREATED:20211015T145052Z
LAST-MODIFIED:20211015T145052Z
UID:489830-1638817200-1638821700@oeh-mci.at
SUMMARY:Yoga mit Vera
DESCRIPTION:3G – Nachweis erforderlich.
URL:https://oeh-mci.at/event/yoga-mit-vera-2021-12-06/
LOCATION:Volksschule St. Nikolaus\, Innhalle 3
END:VEVENT
BEGIN:VEVENT
DTSTART;TZID=Europe/Berlin:20211213T190000
DTEND;TZID=Europe/Berlin:20211213T201500
DTSTAMP:20260424T230938
CREATED:20211015T145052Z
LAST-MODIFIED:20211015T145052Z
UID:489831-1639422000-1639426500@oeh-mci.at
SUMMARY:Yoga mit Vera
DESCRIPTION:3G – Nachweis erforderlich.
URL:https://oeh-mci.at/event/yoga-mit-vera-2021-12-13/
LOCATION:Volksschule St. Nikolaus\, Innhalle 3
END:VEVENT
BEGIN:VEVENT
DTSTART;TZID=Europe/Berlin:20211220T190000
DTEND;TZID=Europe/Berlin:20211220T201500
DTSTAMP:20260424T230938
CREATED:20211015T145052Z
LAST-MODIFIED:20211015T145052Z
UID:489832-1640026800-1640031300@oeh-mci.at
SUMMARY:Yoga mit Vera
DESCRIPTION:3G – Nachweis erforderlich.
URL:https://oeh-mci.at/event/yoga-mit-vera-2021-12-20/
LOCATION:Volksschule St. Nikolaus\, Innhalle 3
END:VEVENT
BEGIN:VEVENT
DTSTART;TZID=Europe/Berlin:20211227T190000
DTEND;TZID=Europe/Berlin:20211227T201500
DTSTAMP:20260424T230938
CREATED:20211015T145052Z
LAST-MODIFIED:20211015T145052Z
UID:489833-1640631600-1640636100@oeh-mci.at
SUMMARY:Yoga mit Vera
DESCRIPTION:3G – Nachweis erforderlich.
URL:https://oeh-mci.at/event/yoga-mit-vera-2021-12-27/
LOCATION:Volksschule St. Nikolaus\, Innhalle 3
END:VEVENT
END:VCALENDAR